BEGIN:VCALENDAR
VERSION:2.0
PRODID:-//Gymnastikverein Grimma e.V. - ECPv6.15.18//NONSGML v1.0//EN
CALSCALE:GREGORIAN
METHOD:PUBLISH
X-WR-CALNAME:Gymnastikverein Grimma e.V.
X-ORIGINAL-URL:https://gymnastikverein-grimma.de
X-WR-CALDESC:Veranstaltungen für Gymnastikverein Grimma e.V.
REFRESH-INTERVAL;VALUE=DURATION:PT1H
X-Robots-Tag:noindex
X-PUBLISHED-TTL:PT1H
BEGIN:VTIMEZONE
TZID:Europe/Berlin
BEGIN:DAYLIGHT
TZOFFSETFROM:+0100
TZOFFSETTO:+0200
TZNAME:CEST
DTSTART:20250330T010000
END:DAYLIGHT
BEGIN:STANDARD
TZOFFSETFROM:+0200
TZOFFSETTO:+0100
TZNAME:CET
DTSTART:20251026T010000
END:STANDARD
BEGIN:DAYLIGHT
TZOFFSETFROM:+0100
TZOFFSETTO:+0200
TZNAME:CEST
DTSTART:20260329T010000
END:DAYLIGHT
BEGIN:STANDARD
TZOFFSETFROM:+0200
TZOFFSETTO:+0100
TZNAME:CET
DTSTART:20261025T010000
END:STANDARD
BEGIN:DAYLIGHT
TZOFFSETFROM:+0100
TZOFFSETTO:+0200
TZNAME:CEST
DTSTART:20270328T010000
END:DAYLIGHT
BEGIN:STANDARD
TZOFFSETFROM:+0200
TZOFFSETTO:+0100
TZNAME:CET
DTSTART:20271031T010000
END:STANDARD
END:VTIMEZONE
BEGIN:VEVENT
DTSTART;TZID=Europe/Berlin:20260422T093000
DTEND;TZID=Europe/Berlin:20260422T103000
DTSTAMP:20260424T102946
CREATED:20260309T134044Z
LAST-MODIFIED:20260312T171023Z
UID:10001339-1776850200-1776853800@gymnastikverein-grimma.de
SUMMARY:Bewegungstreff 2026-12 - Serientermin
DESCRIPTION:Serientermin zur Veranstaltung „Bewegungstreff 2026-12“.\nEin Ticket kann an der ersten Veranstaltung dieser Serie gebucht werden. \n\n               Zur ersten Veranstaltung\n            \n  \nMehr Informationen zum Kurs selbst findest Du in den Details. \n\n               Details zum Bewegungstreff
URL:https://gymnastikverein-grimma.de/event/bewegungstreff-2026-12-serientermin/2026-04-22/
CATEGORIES:Bewegungstreff
ATTACH;FMTTYPE=image/jpeg:https://gymnastikverein-grimma.de/wp-content/uploads/2026/03/Bewegungstreff-3.jpg
END:VEVENT
BEGIN:VEVENT
DTSTART;TZID=Europe/Berlin:20260422T160000
DTEND;TZID=Europe/Berlin:20260422T170000
DTSTAMP:20260424T102946
CREATED:20260223T231412Z
LAST-MODIFIED:20260319T100709Z
UID:10001182-1776873600-1776877200@gymnastikverein-grimma.de
SUMMARY:Fit ab 60
DESCRIPTION:Trainingsdetails ansehen\n            \n\n\n\n\nAnmeldung für Schnuppertraining „Fit ab 60“\n\n\n\nDu hast Interesse an einem Schnuppertraining? Dann melde Dich hier an. \n\n\n\n\n\n\n\n\n\n\nVorname*\n\n\n\nNachname*\n\n\n\n\n\nEmail*\n\n\n\nHast Du schon mal an einem Schnuppertraining in unserem Verein teilgenommen?*JaNein\n\n\n\nNachricht\n\nDiese Seite ist durch reCAPTCHA geschützt und es gelten die Google Datenschutzbestimmungen und Nutzungsbedingungen\n\nEinverständniserklärung*Mit der Nutzung dieses Formulars erklärst Du Dich mit der Speicherung und Verarbeitung Deiner Daten (Name\, E-Mail-Adresse\, Inhalt) durch diese Website einverstanden. Detaillierte Informationen darüber\, wo\, wie und warum wir Deine Daten speichern\, findest Du in unsere Datenschutzerklärung.\n\nJetzt anmelden
URL:https://gymnastikverein-grimma.de/event/fit-ab-60/2026-04-22/
LOCATION:BSZ Grimma\, Außenstelle Rote Schule\, Sporthalle\, BSZ Grimma Außenstelle I „Rote Schule“\, Str. des Friedens 12\, Grimma\, 04668\, Germany
CATEGORIES:Fit ab 60,Training
ATTACH;FMTTYPE=image/jpeg:https://gymnastikverein-grimma.de/wp-content/uploads/2026/02/Training-Fit-ab-60.jpg
END:VEVENT
BEGIN:VEVENT
DTSTART;TZID=Europe/Berlin:20260422T170000
DTEND;TZID=Europe/Berlin:20260422T180000
DTSTAMP:20260424T102946
CREATED:20260222T174325Z
LAST-MODIFIED:20260318T225627Z
UID:10001138-1776877200-1776880800@gymnastikverein-grimma.de
SUMMARY:Line Dance für Fortgeschrittene
DESCRIPTION:Trainingsdetails ansehen\n            \n\n\n\n\n\nAnmeldung für Schnuppertraining „Line Dance für Fortgeschrittene“\n\n\n\nDu hast Interesse an einem Schnuppertraining? Dann melde Dich hier an. \n\n\n\n\n\n\n\n\n\n\nVorname*\n\n\n\nNachname*\n\n\n\n\n\nEmail*\n\n\n\nHast Du schon mal an einem Schnuppertraining in unserem Verein teilgenommen?*JaNein\n\n\n\nNachricht\n\nEinvertständniserklärung*Mit der Nutzung dieses Formulars erklärst Du Dich mit der Speicherung und Verarbeitung Deiner Daten (Name\, E-Mail-Adresse\, Inhalt) durch diese Website einverstanden. Detaillierte Informationen darüber\, wo\, wie und warum wir Deine Daten speichern\, findest Du in unsere Datenschutzerklärung.\n\nDiese Seite ist durch reCAPTCHA geschützt und es gelten die Google Datenschutzbestimmungen und Nutzungsbedingungen\n\nJetzt anmelden
URL:https://gymnastikverein-grimma.de/event/line-dance-fuer-fortgeschrittene/2026-04-22/
LOCATION:BSZ Grimma\, Außenstelle Rote Schule\, Sporthalle\, BSZ Grimma Außenstelle I „Rote Schule“\, Str. des Friedens 12\, Grimma\, 04668\, Germany
CATEGORIES:Line Dance für Fortgeschrittene,Training
ATTACH;FMTTYPE=image/jpeg:https://gymnastikverein-grimma.de/wp-content/uploads/2026/01/Training-Line-Dance-1.jpg
END:VEVENT
BEGIN:VEVENT
DTSTART;TZID=Europe/Berlin:20260422T180000
DTEND;TZID=Europe/Berlin:20260422T190000
DTSTAMP:20260424T102946
CREATED:20260222T174503Z
LAST-MODIFIED:20260318T225602Z
UID:10001094-1776880800-1776884400@gymnastikverein-grimma.de
SUMMARY:Line Dance für Wiedereinsteiger
DESCRIPTION:Trainingsdetails ansehen\n             \n\n\n\n\nAnmeldung für Schnuppertraining „Line Dance für Wiedereinsteiger“\n\n\n\nDu hast Interesse an einem Schnuppertraining? Dann melde Dich hier an. \n\n\n\n\n\n\n\n\n\n\nVorname*\n\n\n\nNachname*\n\n\n\n\n\nEmail*\n\n\n\nHast Du schon mal an einem Schnuppertraining in unserem Verein teilgenommen?*JaNein\n\n\n\nNachricht\n\nEinverständniserklärung*Mit der Nutzung dieses Formulars erklärst Du Dich mit der Speicherung und Verarbeitung Deiner Daten (Name\, E-Mail-Adresse\, Inhalt) durch diese Website einverstanden. Detaillierte Informationen darüber\, wo\, wie und warum wir Deine Daten speichern\, findest Du in unsere Datenschutzerklärung.\n\nDiese Seite ist durch reCAPTCHA geschützt und es gelten die Google Datenschutzbestimmungen und Nutzungsbedingungen\n\nJetzt anmelden
URL:https://gymnastikverein-grimma.de/event/line-dance-fuer-wiedereinsteiger/2026-04-22/
LOCATION:BSZ Grimma\, Außenstelle Rote Schule\, Sporthalle\, BSZ Grimma Außenstelle I „Rote Schule“\, Str. des Friedens 12\, Grimma\, 04668\, Germany
CATEGORIES:Line Dance für Wiedereinsteiger,Training
ATTACH;FMTTYPE=image/jpeg:https://gymnastikverein-grimma.de/wp-content/uploads/2026/01/Training-Line-Dance-2.jpg
END:VEVENT
BEGIN:VEVENT
DTSTART;TZID=Europe/Berlin:20260422T190000
DTEND;TZID=Europe/Berlin:20260422T200000
DTSTAMP:20260424T102946
CREATED:20260222T174540Z
LAST-MODIFIED:20260318T225541Z
UID:10001050-1776884400-1776888000@gymnastikverein-grimma.de
SUMMARY:Line Dance für Anfänger
DESCRIPTION:Trainingsdetails ansehen\n            \n\n\n\n\n\nAnmeldung für Schnuppertraining „Line Dance für Anfänger“\n\n\n\nDu hast Interesse an einem Schnuppertraining? Dann melde Dich hier an. \n\n\n\n\n\n\n\n\n\n\nVorname*\n\n\n\nNachname*\n\n\n\n\n\nEmail*\n\n\n\nHast Du schon mal an einem Schnuppertraining in unserem Verein teilgenommen?*JaNein\n\n\n\nNachricht\n\nEinverständniserklärung*Mit der Nutzung dieses Formulars erklärst Du Dich mit der Speicherung und Verarbeitung Deiner Daten (Name\, E-Mail-Adresse\, Inhalt) durch diese Website einverstanden. Detaillierte Informationen darüber\, wo\, wie und warum wir Deine Daten speichern\, findest Du in unsere Datenschutzerklärung.\n\nDiese Seite ist durch reCAPTCHA geschützt und es gelten die Google Datenschutzbestimmungen und Nutzungsbedingungen\n\nJetzt anmelden
URL:https://gymnastikverein-grimma.de/event/line-dance-fuer-anfaenger/2026-04-22/
LOCATION:BSZ Grimma\, Außenstelle Rote Schule\, Sporthalle\, BSZ Grimma Außenstelle I „Rote Schule“\, Str. des Friedens 12\, Grimma\, 04668\, Germany
CATEGORIES:Line Dance für Anfänger,Training
ATTACH;FMTTYPE=image/jpeg:https://gymnastikverein-grimma.de/wp-content/uploads/2026/01/Training-Line-Dance-3.jpg
END:VEVENT
BEGIN:VEVENT
DTSTART;TZID=Europe/Berlin:20260422T190000
DTEND;TZID=Europe/Berlin:20260422T200000
DTSTAMP:20260424T102946
CREATED:20260222T174812Z
LAST-MODIFIED:20260319T145557Z
UID:10001006-1776884400-1776888000@gymnastikverein-grimma.de
SUMMARY:Fitness für Frauen
DESCRIPTION:Trainingsdetails ansehen\n             \n\n\n\n\nAnmeldung für Schnuppertraining „Fitness für Frauen“\n\n\n\nDu hast Interesse an einem Schnuppertraining? Dann melde Dich hier an. \n\n\n\n\n\n\n\n\n\n\nVorname*\n\n\n\nNachname*\n\n\n\n\n\nEmail*\n\n\n\nHast Du schon mal an einem Schnuppertraining in unserem Verein teilgenommen?*JaNein\n\n\n\nNachricht\n\nEinverständniserklärung*Mit der Nutzung dieses Formulars erklärst Du Dich mit der Speicherung und Verarbeitung Deiner Daten (Name\, E-Mail-Adresse\, Inhalt) durch diese Website einverstanden. Detaillierte Informationen darüber\, wo\, wie und warum wir Deine Daten speichern\, findest Du in unsere Datenschutzerklärung.\n\nDiese Seite ist durch reCAPTCHA geschützt und es gelten die Google Datenschutzbestimmungen und Nutzungsbedingungen\n\nJetzt anmelden
URL:https://gymnastikverein-grimma.de/event/fitness-fuer-frauen/2026-04-22/
LOCATION:Turnhalle Oberschule Grimma am Wallgraben\, Wallgraben\, B107 23\, Grimma\, 04668\, Germany
CATEGORIES:Fitness für Frauen,Training
ATTACH;FMTTYPE=image/jpeg:https://gymnastikverein-grimma.de/wp-content/uploads/2026/01/Training-Fitness-fuer-Frauen.jpg
END:VEVENT
BEGIN:VEVENT
DTSTART;TZID=Europe/Berlin:20260422T193000
DTEND;TZID=Europe/Berlin:20260422T210000
DTSTAMP:20260424T102946
CREATED:20260222T174902Z
LAST-MODIFIED:20260319T103053Z
UID:10000962-1776886200-1776891600@gymnastikverein-grimma.de
SUMMARY:Männer Fitness
DESCRIPTION:Trainingsdetails ansehen\n            \n\n\n\n\n\nAnmeldung für Schnuppertraining „Männer Fitness“\n\n\n\nDu hast Interesse an einem Schnuppertraining? Dann melde Dich hier an. \n\n\n\n\n\n\n\n\n\n\nVorname*\n\n\n\nNachname*\n\n\n\n\n\nEmail*\n\n\n\nHast Du schon mal an einem Schnuppertraining in unserem Verein teilgenommen?*JaNein\n\n\n\nNachricht\n\nEinverständniserklärung*Mit der Nutzung dieses Formulars erklärst Du Dich mit der Speicherung und Verarbeitung Deiner Daten (Name\, E-Mail-Adresse\, Inhalt) durch diese Website einverstanden. Detaillierte Informationen darüber\, wo\, wie und warum wir Deine Daten speichern\, findest Du in unsere Datenschutzerklärung.\n\nDiese Seite ist durch reCAPTCHA geschützt und es gelten die Google Datenschutzbestimmungen und Nutzungsbedingungen\n\nJetzt anmelden
URL:https://gymnastikverein-grimma.de/event/maenner-fitness/2026-04-22/
LOCATION:Seumesporthalle Prophetenberg\, Prophetenberg 62\, Grimma\, 04668\, Germany
CATEGORIES:Männer Fitness,Training
ATTACH;FMTTYPE=image/jpeg:https://gymnastikverein-grimma.de/wp-content/uploads/2026/01/Training-Maenner-Fitness.jpg
END:VEVENT
BEGIN:VEVENT
DTSTART;TZID=Europe/Berlin:20260422T200000
DTEND;TZID=Europe/Berlin:20260422T210000
DTSTAMP:20260424T102947
CREATED:20260222T174947Z
LAST-MODIFIED:20260303T181815Z
UID:10000918-1776888000-1776891600@gymnastikverein-grimma.de
SUMMARY:Stepp-Aerobic Plus
DESCRIPTION:Trainingsdetails ansehen\n             \n\n\n\n\nAnmeldung für Schnuppertraining „Stepp-Aerobic Plus“\n\n\n\nDu hast Interesse an einem Schnuppertraining? Dann melde Dich hier an. \n\n\n\n\n\n\n\n\n\n\nVorname*\n\n\n\nNachname*\n\n\n\n\n\nEmail*\n\n\n\nHast Du schon mal an einem Schnuppertraining in unserem Verein teilgenommen?*JaNein\n\n\n\nNachricht\n\nEinverständniserklärung*Mit der Nutzung dieses Formulars erklärst Du Dich mit der Speicherung und Verarbeitung Deiner Daten (Name\, E-Mail-Adresse\, Inhalt) durch diese Website einverstanden. Detaillierte Informationen darüber\, wo\, wie und warum wir Deine Daten speichern\, findest Du in unsere Datenschutzerklärung.\n\nDiese Seite ist durch reCAPTCHA geschützt und es gelten die Google Datenschutzbestimmungen und Nutzungsbedingungen\n\nJetzt anmelden
URL:https://gymnastikverein-grimma.de/event/stepp-aerobic-plus/2026-04-22/
LOCATION:BSZ Grimma\, Außenstelle Rote Schule\, Sporthalle\, BSZ Grimma Außenstelle I „Rote Schule“\, Str. des Friedens 12\, Grimma\, 04668\, Germany
CATEGORIES:Stepp-Aerobic Plus,Training
ATTACH;FMTTYPE=image/jpeg:https://gymnastikverein-grimma.de/wp-content/uploads/2026/01/Trainer-Anett-Vogel-Stepp-Aerobic-Gruppe.jpg
END:VEVENT
END:VCALENDAR